Package: NoRCE Version: 1.19.0 Command: E:\biocbuild\bbs-3.21-bioc\R\bin\R.exe CMD INSTALL NoRCE StartedAt: 2025-02-05 16:20:08 -0500 (Wed, 05 Feb 2025) EndedAt: 2025-02-05 16:20:57 -0500 (Wed, 05 Feb 2025) EllapsedTime: 49.1 seconds RetCode: 0 Status: OK