Package: NormalyzerDE Version: 1.25.0 Command: rm -rf NormalyzerDE.buildbin-libdir && mkdir NormalyzerDE.buildbin-libdir && /Users/biocbuild/BBS/utils/build-universal.sh NormalyzerDE_1.25.0.tar.gz /Library/Frameworks/R.framework/Resources/bin/R NormalyzerDE.buildbin-libdir StartedAt: 2025-02-04 22:25:38 -0500 (Tue, 04 Feb 2025) EndedAt: 2025-02-04 22:25:49 -0500 (Tue, 04 Feb 2025) EllapsedTime: 10.2 seconds RetCode: 0 Status: OK PackageFile: NormalyzerDE_1.25.0.tgz PackageFileSize: 1.362 MiB