Package: NormalyzerDE Version: 1.25.0 Command: /Library/Frameworks/R.framework/Resources/bin/R CMD build --keep-empty-dirs --no-resave-data NormalyzerDE StartedAt: 2025-02-04 17:08:44 -0500 (Tue, 04 Feb 2025) EndedAt: 2025-02-04 17:09:10 -0500 (Tue, 04 Feb 2025) EllapsedTime: 26.3 seconds RetCode: 0 Status: OK PackageFile: NormalyzerDE_1.25.0.tar.gz PackageFileSize: 1.113 MiB