Package: NormalyzerDE Version: 1.25.0 Command: /Library/Frameworks/R.framework/Resources/bin/R CMD check --install=check:NormalyzerDE.install-out.txt --library=/Library/Frameworks/R.framework/Resources/library --no-vignettes --timings NormalyzerDE_1.25.0.tar.gz StartedAt: 2025-02-04 20:28:57 -0500 (Tue, 04 Feb 2025) EndedAt: 2025-02-04 20:30:17 -0500 (Tue, 04 Feb 2025) EllapsedTime: 80.1 seconds RetCode: 0 Status: WARNINGS CheckDir: NormalyzerDE.Rcheck Warnings: 1