Package: NormalyzerDE Version: 1.25.0 Command: /Library/Frameworks/R.framework/Resources/bin/R CMD INSTALL NormalyzerDE StartedAt: 2025-02-04 15:20:17 -0500 (Tue, 04 Feb 2025) EndedAt: 2025-02-04 15:20:26 -0500 (Tue, 04 Feb 2025) EllapsedTime: 8.6 seconds RetCode: 0 Status: OK