Package: NormalyzerDE Version: 1.25.0 Command: /Library/Frameworks/R.framework/Resources/bin/R CMD check --install=check:NormalyzerDE.install-out.txt --library=/Library/Frameworks/R.framework/Resources/library --no-vignettes --timings NormalyzerDE_1.25.0.tar.gz StartedAt: 2025-02-09 22:22:10 -0500 (Sun, 09 Feb 2025) EndedAt: 2025-02-09 22:26:08 -0500 (Sun, 09 Feb 2025) EllapsedTime: 237.7 seconds RetCode: 0 Status: WARNINGS CheckDir: NormalyzerDE.Rcheck Warnings: 1