Package: NormalyzerDE Version: 1.25.0 Command: /home/biocbuild/bbs-3.21-bioc/R/bin/R CMD build --keep-empty-dirs --no-resave-data NormalyzerDE StartedAt: 2025-02-04 18:24:55 -0500 (Tue, 04 Feb 2025) EndedAt: 2025-02-04 18:26:22 -0500 (Tue, 04 Feb 2025) EllapsedTime: 87.2 seconds RetCode: 0 Status: OK PackageFile: NormalyzerDE_1.25.0.tar.gz PackageFileSize: 1.112 MiB