Package: NormalyzerDE Version: 1.25.0 Command: /home/biocbuild/bbs-3.21-bioc/R/bin/R CMD check --install=check:NormalyzerDE.install-out.txt --library=/home/biocbuild/bbs-3.21-bioc/R/site-library --timings NormalyzerDE_1.25.0.tar.gz StartedAt: 2025-02-05 00:57:52 -0500 (Wed, 05 Feb 2025) EndedAt: 2025-02-05 01:02:16 -0500 (Wed, 05 Feb 2025) EllapsedTime: 264.4 seconds RetCode: 0 Status: WARNINGS CheckDir: NormalyzerDE.Rcheck Warnings: 1