Package: NormalyzerDE Version: 1.25.0 Command: rm -rf NormalyzerDE.buildbin-libdir && mkdir NormalyzerDE.buildbin-libdir && E:\biocbuild\bbs-3.21-bioc\R\bin\R.exe CMD INSTALL --build --library=NormalyzerDE.buildbin-libdir NormalyzerDE_1.25.0.tar.gz StartedAt: 2025-02-04 08:31:02 -0500 (Tue, 04 Feb 2025) EndedAt: 2025-02-04 08:33:02 -0500 (Tue, 04 Feb 2025) EllapsedTime: 120.0 seconds RetCode: 0 Status: OK PackageFile: NormalyzerDE_1.25.0.zip PackageFileSize: 1.398 MiB