Package: NormalyzerDE Version: 1.25.0 Command: chmod a+r NormalyzerDE -R && E:\biocbuild\bbs-3.21-bioc\R\bin\R.exe CMD build --keep-empty-dirs --no-resave-data NormalyzerDE StartedAt: 2025-02-03 20:35:31 -0500 (Mon, 03 Feb 2025) EndedAt: 2025-02-03 20:37:54 -0500 (Mon, 03 Feb 2025) EllapsedTime: 143.5 seconds RetCode: 0 Status: OK PackageFile: NormalyzerDE_1.25.0.tar.gz PackageFileSize: 1.113 MiB