Package: NormalyzerDE Version: 1.25.0 Command: E:\biocbuild\bbs-3.21-bioc\R\bin\R.exe CMD check --no-multiarch --install=check:NormalyzerDE.install-out.txt --library=E:\biocbuild\bbs-3.21-bioc\R\library --no-vignettes --timings NormalyzerDE_1.25.0.tar.gz StartedAt: 2025-02-10 03:39:39 -0500 (Mon, 10 Feb 2025) EndedAt: 2025-02-10 03:43:59 -0500 (Mon, 10 Feb 2025) EllapsedTime: 259.6 seconds RetCode: 0 Status: WARNINGS CheckDir: NormalyzerDE.Rcheck Warnings: 1