Package: NormalyzerDE Version: 1.25.0 Command: E:\biocbuild\bbs-3.21-bioc\R\bin\R.exe CMD INSTALL NormalyzerDE StartedAt: 2025-02-09 16:06:22 -0500 (Sun, 09 Feb 2025) EndedAt: 2025-02-09 16:07:51 -0500 (Sun, 09 Feb 2025) EllapsedTime: 89.7 seconds RetCode: 0 Status: OK