Package: NormqPCR Version: 1.53.0 Command: /Library/Frameworks/R.framework/Resources/bin/R CMD build --keep-empty-dirs --no-resave-data NormqPCR StartedAt: 2025-02-12 17:08:26 -0500 (Wed, 12 Feb 2025) EndedAt: 2025-02-12 17:08:34 -0500 (Wed, 12 Feb 2025) EllapsedTime: 8.1 seconds RetCode: 0 Status: OK PackageFile: NormqPCR_1.53.0.tar.gz PackageFileSize: 417.7 KiB