Package: NormqPCR Version: 1.53.0 Command: chmod a+r NormqPCR -R && E:\biocbuild\bbs-3.21-bioc\R\bin\R.exe CMD build --keep-empty-dirs --no-resave-data NormqPCR StartedAt: 2025-02-12 20:28:24 -0500 (Wed, 12 Feb 2025) EndedAt: 2025-02-12 20:28:52 -0500 (Wed, 12 Feb 2025) EllapsedTime: 27.7 seconds RetCode: 0 Status: OK PackageFile: NormqPCR_1.53.0.tar.gz PackageFileSize: 292.4 KiB