Package: OCplus Version: 1.81.0 Command: /Library/Frameworks/R.framework/Resources/bin/R CMD check --install=check:OCplus.install-out.txt --library=/Library/Frameworks/R.framework/Resources/library --no-vignettes --timings OCplus_1.81.0.tar.gz StartedAt: 2025-02-09 20:28:17 -0500 (Sun, 09 Feb 2025) EndedAt: 2025-02-09 20:28:46 -0500 (Sun, 09 Feb 2025) EllapsedTime: 28.4 seconds RetCode: 0 Status: OK CheckDir: OCplus.Rcheck Warnings: 0