Package: OCplus Version: 1.81.0 Command: /Library/Frameworks/R.framework/Resources/bin/R CMD INSTALL OCplus StartedAt: 2025-02-09 15:22:08 -0500 (Sun, 09 Feb 2025) EndedAt: 2025-02-09 15:22:11 -0500 (Sun, 09 Feb 2025) EllapsedTime: 3.3 seconds RetCode: 0 Status: OK