Package: OCplus Version: 1.81.0 Command: /home/biocbuild/R/R/bin/R CMD build --keep-empty-dirs --no-resave-data OCplus StartedAt: 2025-01-29 00:55:34 -0000 (Wed, 29 Jan 2025) EndedAt: 2025-01-29 00:56:21 -0000 (Wed, 29 Jan 2025) EllapsedTime: 47.1 seconds RetCode: 0 Status: OK PackageFile: OCplus_1.81.0.tar.gz PackageFileSize: 9.671 MiB