Package: OCplus Version: 1.81.0 Command: /home/biocbuild/R/R/bin/R CMD check --install=check:OCplus.install-out.txt --library=/home/biocbuild/R/R/site-library --no-vignettes --timings OCplus_1.81.0.tar.gz StartedAt: 2025-01-28 13:25:26 -0000 (Tue, 28 Jan 2025) EndedAt: 2025-01-28 13:27:24 -0000 (Tue, 28 Jan 2025) EllapsedTime: 118.4 seconds RetCode: 0 Status: OK CheckDir: OCplus.Rcheck Warnings: 0