Package: OCplus Version: 1.81.0 Command: /home/biocbuild/bbs-3.21-bioc/R/bin/R CMD INSTALL OCplus StartedAt: 2025-02-09 15:14:19 -0500 (Sun, 09 Feb 2025) EndedAt: 2025-02-09 15:14:26 -0500 (Sun, 09 Feb 2025) EllapsedTime: 7.0 seconds RetCode: 0 Status: OK