Package: OGRE Version: 1.11.0 Command: /Library/Frameworks/R.framework/Resources/bin/R CMD INSTALL OGRE StartedAt: 2025-02-04 15:17:08 -0500 (Tue, 04 Feb 2025) EndedAt: 2025-02-04 15:17:30 -0500 (Tue, 04 Feb 2025) EllapsedTime: 21.5 seconds RetCode: 0 Status: OK