Package: OGRE Version: 1.11.0 Command: /Library/Frameworks/R.framework/Resources/bin/R CMD INSTALL OGRE StartedAt: 2025-02-09 15:28:29 -0500 (Sun, 09 Feb 2025) EndedAt: 2025-02-09 15:29:37 -0500 (Sun, 09 Feb 2025) EllapsedTime: 68.8 seconds RetCode: 0 Status: OK