Package: OGRE Version: 1.11.0 Command: /home/biocbuild/bbs-3.21-bioc/R/bin/R CMD build --keep-empty-dirs --no-resave-data OGRE StartedAt: 2025-02-04 18:25:56 -0500 (Tue, 04 Feb 2025) EndedAt: 2025-02-04 18:27:37 -0500 (Tue, 04 Feb 2025) EllapsedTime: 101.1 seconds RetCode: 0 Status: OK PackageFile: OGRE_1.11.0.tar.gz PackageFileSize: 1.712 MiB