Package: OGRE Version: 1.11.0 Command: /home/biocbuild/bbs-3.21-bioc/R/bin/R CMD check --install=check:OGRE.install-out.txt --library=/home/biocbuild/bbs-3.21-bioc/R/site-library --timings OGRE_1.11.0.tar.gz StartedAt: 2025-02-05 01:00:37 -0500 (Wed, 05 Feb 2025) EndedAt: 2025-02-05 01:09:19 -0500 (Wed, 05 Feb 2025) EllapsedTime: 521.9 seconds RetCode: 0 Status: OK CheckDir: OGRE.Rcheck Warnings: 0