Package: OGRE Version: 1.11.0 Command: /home/biocbuild/bbs-3.21-bioc/R/bin/R CMD INSTALL OGRE StartedAt: 2025-02-04 15:45:41 -0500 (Tue, 04 Feb 2025) EndedAt: 2025-02-04 15:46:32 -0500 (Tue, 04 Feb 2025) EllapsedTime: 51.3 seconds RetCode: 0 Status: OK