Package: OGRE Version: 1.11.0 Command: rm -rf OGRE.buildbin-libdir && mkdir OGRE.buildbin-libdir && E:\biocbuild\bbs-3.21-bioc\R\bin\R.exe CMD INSTALL --build --library=OGRE.buildbin-libdir OGRE_1.11.0.tar.gz StartedAt: 2025-02-10 08:18:36 -0500 (Mon, 10 Feb 2025) EndedAt: 2025-02-10 08:19:32 -0500 (Mon, 10 Feb 2025) EllapsedTime: 56.6 seconds RetCode: 0 Status: OK PackageFile: OGRE_1.11.0.zip PackageFileSize: 1.059 MiB