Package: OGRE Version: 1.11.0 Command: E:\biocbuild\bbs-3.21-bioc\R\bin\R.exe CMD check --no-multiarch --install=check:OGRE.install-out.txt --library=E:\biocbuild\bbs-3.21-bioc\R\library --no-vignettes --timings OGRE_1.11.0.tar.gz StartedAt: 2025-02-05 04:08:04 -0500 (Wed, 05 Feb 2025) EndedAt: 2025-02-05 04:16:51 -0500 (Wed, 05 Feb 2025) EllapsedTime: 526.8 seconds RetCode: 0 Status: OK CheckDir: OGRE.Rcheck Warnings: 0