Package: OLIN Version: 1.85.0 Command: rm -rf OLIN.buildbin-libdir && mkdir OLIN.buildbin-libdir && /Users/biocbuild/BBS/utils/build-universal.sh OLIN_1.85.0.tar.gz /Library/Frameworks/R.framework/Resources/bin/R OLIN.buildbin-libdir StartedAt: 2025-02-12 22:29:07 -0500 (Wed, 12 Feb 2025) EndedAt: 2025-02-12 22:29:10 -0500 (Wed, 12 Feb 2025) EllapsedTime: 3.1 seconds RetCode: 0 Status: OK PackageFile: OLIN_1.85.0.tgz PackageFileSize: 2.723 MiB