Package: OLIN Version: 1.85.0 Command: /Library/Frameworks/R.framework/Resources/bin/R CMD INSTALL OLIN StartedAt: 2025-02-09 15:02:48 -0500 (Sun, 09 Feb 2025) EndedAt: 2025-02-09 15:02:53 -0500 (Sun, 09 Feb 2025) EllapsedTime: 4.9 seconds RetCode: 0 Status: OK