Package: OLIN Version: 1.85.0 Command: /home/biocbuild/R/R/bin/R CMD check --install=check:OLIN.install-out.txt --library=/home/biocbuild/R/R/site-library --no-vignettes --timings OLIN_1.85.0.tar.gz StartedAt: 2025-01-28 13:25:55 -0000 (Tue, 28 Jan 2025) EndedAt: 2025-01-28 13:27:18 -0000 (Tue, 28 Jan 2025) EllapsedTime: 83.2 seconds RetCode: 0 Status: OK CheckDir: OLIN.Rcheck Warnings: 0