Package: OLIN Version: 1.85.0 Command: rm -rf OLIN.buildbin-libdir && mkdir OLIN.buildbin-libdir && /Users/biocbuild/BBS/utils/build-universal.sh OLIN_1.85.0.tar.gz /Library/Frameworks/R.framework/Resources/bin/R OLIN.buildbin-libdir StartedAt: 2025-02-10 01:06:32 -0500 (Mon, 10 Feb 2025) EndedAt: 2025-02-10 01:06:41 -0500 (Mon, 10 Feb 2025) EllapsedTime: 9.3 seconds RetCode: 0 Status: OK PackageFile: OLIN_1.85.0.tgz PackageFileSize: 2.723 MiB