Package: OLIN Version: 1.85.0 Command: /Library/Frameworks/R.framework/Resources/bin/R CMD check --install=check:OLIN.install-out.txt --library=/Library/Frameworks/R.framework/Resources/library --no-vignettes --timings OLIN_1.85.0.tar.gz StartedAt: 2025-02-09 22:23:56 -0500 (Sun, 09 Feb 2025) EndedAt: 2025-02-09 22:24:58 -0500 (Sun, 09 Feb 2025) EllapsedTime: 61.9 seconds RetCode: 0 Status: OK CheckDir: OLIN.Rcheck Warnings: 0