Package: OLIN Version: 1.85.0 Command: /home/biocbuild/bbs-3.21-bioc/R/bin/R CMD check --install=check:OLIN.install-out.txt --library=/home/biocbuild/bbs-3.21-bioc/R/site-library --timings OLIN_1.85.0.tar.gz StartedAt: 2025-02-13 00:54:00 -0500 (Thu, 13 Feb 2025) EndedAt: 2025-02-13 00:55:13 -0500 (Thu, 13 Feb 2025) EllapsedTime: 73.1 seconds RetCode: 0 Status: OK CheckDir: OLIN.Rcheck Warnings: 0