Package: OPWeight Version: 1.29.0 Command: /Library/Frameworks/R.framework/Resources/bin/R CMD INSTALL OPWeight StartedAt: 2025-02-09 15:06:51 -0500 (Sun, 09 Feb 2025) EndedAt: 2025-02-09 15:06:53 -0500 (Sun, 09 Feb 2025) EllapsedTime: 2.2 seconds RetCode: 0 Status: OK