Package: OPWeight Version: 1.29.0 Command: /home/biocbuild/R/R/bin/R CMD build --keep-empty-dirs --no-resave-data OPWeight StartedAt: 2025-01-29 01:03:00 -0000 (Wed, 29 Jan 2025) EndedAt: 2025-01-29 01:06:23 -0000 (Wed, 29 Jan 2025) EllapsedTime: 202.4 seconds RetCode: 0 Status: OK PackageFile: OPWeight_1.29.0.tar.gz PackageFileSize: 385.2 KiB