Package: OPWeight Version: 1.29.0 Command: /home/biocbuild/R/R/bin/R CMD check --install=check:OPWeight.install-out.txt --library=/home/biocbuild/R/R/site-library --no-vignettes --timings OPWeight_1.29.0.tar.gz StartedAt: 2025-01-28 13:34:31 -0000 (Tue, 28 Jan 2025) EndedAt: 2025-01-28 13:35:46 -0000 (Tue, 28 Jan 2025) EllapsedTime: 74.1 seconds RetCode: 0 Status: OK CheckDir: OPWeight.Rcheck Warnings: 0