Package: OPWeight Version: 1.29.0 Command: /Library/Frameworks/R.framework/Resources/bin/R CMD build --keep-empty-dirs --no-resave-data OPWeight StartedAt: 2025-02-09 17:49:28 -0500 (Sun, 09 Feb 2025) EndedAt: 2025-02-09 17:52:24 -0500 (Sun, 09 Feb 2025) EllapsedTime: 176.0 seconds RetCode: 0 Status: OK PackageFile: OPWeight_1.29.0.tar.gz PackageFileSize: 489 KiB