Package: OPWeight Version: 1.29.0 Command: /Library/Frameworks/R.framework/Resources/bin/R CMD check --install=check:OPWeight.install-out.txt --library=/Library/Frameworks/R.framework/Resources/library --no-vignettes --timings OPWeight_1.29.0.tar.gz StartedAt: 2025-02-09 22:27:47 -0500 (Sun, 09 Feb 2025) EndedAt: 2025-02-09 22:28:43 -0500 (Sun, 09 Feb 2025) EllapsedTime: 56.2 seconds RetCode: 0 Status: OK CheckDir: OPWeight.Rcheck Warnings: 0