Package: OPWeight Version: 1.29.0 Command: /Library/Frameworks/R.framework/Resources/bin/R CMD INSTALL OPWeight StartedAt: 2025-02-09 15:11:36 -0500 (Sun, 09 Feb 2025) EndedAt: 2025-02-09 15:11:44 -0500 (Sun, 09 Feb 2025) EllapsedTime: 8.1 seconds RetCode: 0 Status: OK