Package: OPWeight Version: 1.29.0 Command: /home/biocbuild/bbs-3.21-bioc/R/bin/R CMD check --install=check:OPWeight.install-out.txt --library=/home/biocbuild/bbs-3.21-bioc/R/site-library --timings OPWeight_1.29.0.tar.gz StartedAt: 2025-02-10 00:58:54 -0500 (Mon, 10 Feb 2025) EndedAt: 2025-02-10 01:01:17 -0500 (Mon, 10 Feb 2025) EllapsedTime: 143.3 seconds RetCode: 0 Status: OK CheckDir: OPWeight.Rcheck Warnings: 0