Package: OPWeight Version: 1.29.0 Command: E:\biocbuild\bbs-3.21-bioc\R\bin\R.exe CMD INSTALL OPWeight StartedAt: 2025-02-09 15:33:19 -0500 (Sun, 09 Feb 2025) EndedAt: 2025-02-09 15:33:33 -0500 (Sun, 09 Feb 2025) EllapsedTime: 14.0 seconds RetCode: 0 Status: OK