Package: ORFhunteR Version: 1.15.0 Command: /Library/Frameworks/R.framework/Resources/bin/R CMD build --keep-empty-dirs --no-resave-data ORFhunteR StartedAt: 2025-02-04 17:10:35 -0500 (Tue, 04 Feb 2025) EndedAt: 2025-02-04 17:11:39 -0500 (Tue, 04 Feb 2025) EllapsedTime: 63.7 seconds RetCode: 0 Status: OK PackageFile: ORFhunteR_1.15.0.tar.gz PackageFileSize: 2.108 MiB