Package: ORFhunteR Version: 1.15.0 Command: /Library/Frameworks/R.framework/Resources/bin/R CMD INSTALL ORFhunteR StartedAt: 2025-02-09 15:19:36 -0500 (Sun, 09 Feb 2025) EndedAt: 2025-02-09 15:20:32 -0500 (Sun, 09 Feb 2025) EllapsedTime: 56.3 seconds RetCode: 0 Status: OK