Package: ORFhunteR Version: 1.15.0 Command: /home/biocbuild/bbs-3.21-bioc/R/bin/R CMD build --keep-empty-dirs --no-resave-data ORFhunteR StartedAt: 2025-02-09 18:30:54 -0500 (Sun, 09 Feb 2025) EndedAt: 2025-02-09 18:34:52 -0500 (Sun, 09 Feb 2025) EllapsedTime: 237.4 seconds RetCode: 0 Status: OK PackageFile: ORFhunteR_1.15.0.tar.gz PackageFileSize: 2.108 MiB