Package: ORFhunteR Version: 1.15.0 Command: /home/biocbuild/bbs-3.21-bioc/R/bin/R CMD INSTALL ORFhunteR StartedAt: 2025-02-09 15:34:03 -0500 (Sun, 09 Feb 2025) EndedAt: 2025-02-09 15:34:48 -0500 (Sun, 09 Feb 2025) EllapsedTime: 44.9 seconds RetCode: 0 Status: OK