Package: ORFik Version: 1.27.1 Command: /Library/Frameworks/R.framework/Resources/bin/R CMD build --keep-empty-dirs --no-resave-data ORFik StartedAt: 2025-02-09 17:10:24 -0500 (Sun, 09 Feb 2025) EndedAt: 2025-02-09 17:12:32 -0500 (Sun, 09 Feb 2025) EllapsedTime: 128.3 seconds RetCode: 0 Status: OK PackageFile: ORFik_1.27.1.tar.gz PackageFileSize: 3.924 MiB