Package: ORFik Version: 1.27.1 Command: /Library/Frameworks/R.framework/Resources/bin/R CMD INSTALL ORFik StartedAt: 2025-02-09 15:14:13 -0500 (Sun, 09 Feb 2025) EndedAt: 2025-02-09 15:14:39 -0500 (Sun, 09 Feb 2025) EllapsedTime: 26.5 seconds RetCode: 0 Status: OK