Package: ORFik Version: 1.27.1 Command: /home/biocbuild/R/R/bin/R CMD build --keep-empty-dirs --no-resave-data ORFik StartedAt: 2025-01-29 01:03:38 -0000 (Wed, 29 Jan 2025) EndedAt: 2025-01-29 01:11:10 -0000 (Wed, 29 Jan 2025) EllapsedTime: 451.8 seconds RetCode: 0 Status: OK PackageFile: ORFik_1.27.1.tar.gz PackageFileSize: 3.498 MiB