Package: ORFik Version: 1.27.1 Command: /home/biocbuild/R/R/bin/R CMD check --install=check:ORFik.install-out.txt --library=/home/biocbuild/R/R/site-library --no-vignettes --timings ORFik_1.27.1.tar.gz StartedAt: 2025-01-28 13:35:36 -0000 (Tue, 28 Jan 2025) EndedAt: 2025-01-28 14:15:36 -0000 (Tue, 28 Jan 2025) EllapsedTime: 2401.0 seconds RetCode: None Status: TIMEOUT CheckDir: ORFik.Rcheck Warnings: NA