Package: ORFik Version: 1.27.1 Command: /home/biocbuild/R/R/bin/R CMD INSTALL ORFik StartedAt: 2025-01-29 20:03:15 -0000 (Wed, 29 Jan 2025) EndedAt: 2025-01-29 20:05:04 -0000 (Wed, 29 Jan 2025) EllapsedTime: 108.8 seconds RetCode: 0 Status: OK