Package: ORFik Version: 1.27.1 Command: /home/biocbuild/bbs-3.21-bioc/R/bin/R CMD check --install=check:ORFik.install-out.txt --library=/home/biocbuild/bbs-3.21-bioc/R/site-library --timings ORFik_1.27.1.tar.gz StartedAt: 2025-02-05 01:07:08 -0500 (Wed, 05 Feb 2025) EndedAt: 2025-02-05 01:25:41 -0500 (Wed, 05 Feb 2025) EllapsedTime: 1113.0 seconds RetCode: 0 Status: WARNINGS CheckDir: ORFik.Rcheck Warnings: 1